BEGIN:VCALENDAR
VERSION:2.0
PRODID:-//Kimura Shukokai Karate Adliswil - ECPv6.15.20//NONSGML v1.0//EN
CALSCALE:GREGORIAN
METHOD:PUBLISH
X-ORIGINAL-URL:https://www.shukokai-karate.ch
X-WR-CALDESC:Veranstaltungen für Kimura Shukokai Karate Adliswil
REFRESH-INTERVAL;VALUE=DURATION:PT1H
X-Robots-Tag:noindex
X-PUBLISHED-TTL:PT1H
BEGIN:VTIMEZONE
TZID:Europe/Helsinki
BEGIN:DAYLIGHT
TZOFFSETFROM:+0200
TZOFFSETTO:+0300
TZNAME:EEST
DTSTART:20230326T010000
END:DAYLIGHT
BEGIN:STANDARD
TZOFFSETFROM:+0300
TZOFFSETTO:+0200
TZNAME:EET
DTSTART:20231029T010000
END:STANDARD
BEGIN:DAYLIGHT
TZOFFSETFROM:+0200
TZOFFSETTO:+0300
TZNAME:EEST
DTSTART:20240331T010000
END:DAYLIGHT
BEGIN:STANDARD
TZOFFSETFROM:+0300
TZOFFSETTO:+0200
TZNAME:EET
DTSTART:20241027T010000
END:STANDARD
BEGIN:DAYLIGHT
TZOFFSETFROM:+0200
TZOFFSETTO:+0300
TZNAME:EEST
DTSTART:20250330T010000
END:DAYLIGHT
BEGIN:STANDARD
TZOFFSETFROM:+0300
TZOFFSETTO:+0200
TZNAME:EET
DTSTART:20251026T010000
END:STANDARD
END:VTIMEZONE
BEGIN:VEVENT
DTSTART;VALUE=DATE:20240402
DTEND;VALUE=DATE:20240408
DTSTAMP:20260421T223840
CREATED:20231204T150331Z
LAST-MODIFIED:20231204T150331Z
UID:7714-1712016000-1712534399@www.shukokai-karate.ch
SUMMARY:World Chief Instructors Course
DESCRIPTION:friday night impact training								\n				\n					\n		\n					\n		\n				\n						\n					\n			\n						\n				\n									Wo: 								\n				\n					\n		\n				\n			\n						\n				\n									Dojo Adliswil 								\n				\n					\n		\n					\n		\n				\n						\n					\n			\n						\n				\n									Wer: 								\n				\n					\n		\n				\n			\n						\n				\n									alle Karatekas ab 14 Jahren sind herzlich willkommen 								\n				\n					\n		\n					\n		\n				\n						\n					\n			\n						\n				\n									Wann: 								\n				\n					\n		\n				\n			\n						\n				\n									19:00-20:30
URL:https://www.shukokai-karate.ch/event/world-chief-instructors-course/
LOCATION:Leipzig\, Leipzig\, Deutschland
ATTACH;FMTTYPE=image/jpeg:https://www.shukokai-karate.ch/wp-content/uploads/2024/04/Gashukku-2015-e1701444271712.jpg
END:VEVENT
BEGIN:VEVENT
DTSTART;TZID=Europe/Helsinki:20240413T140000
DTEND;TZID=Europe/Helsinki:20240413T170000
DTSTAMP:20260421T223840
CREATED:20231201T153522Z
LAST-MODIFIED:20240409T082427Z
UID:7587-1713016800-1713027600@www.shukokai-karate.ch
SUMMARY:Dojo Turnier Team-Kumite
DESCRIPTION:friday night impact training								\n				\n					\n		\n					\n		\n				\n						\n					\n			\n						\n				\n									Wo: 								\n				\n					\n		\n				\n			\n						\n				\n									Dojo Adliswil 								\n				\n					\n		\n					\n		\n				\n						\n					\n			\n						\n				\n									Wer: 								\n				\n					\n		\n				\n			\n						\n				\n									alle Karatekas ab 14 Jahren sind herzlich willkommen 								\n				\n					\n		\n					\n		\n				\n						\n					\n			\n						\n				\n									Wann: 								\n				\n					\n		\n				\n			\n						\n				\n									19:00-20:30
URL:https://www.shukokai-karate.ch/event/team-kumite-turnier-dojo-adliswil/
LOCATION:Sporthalle Tüfi\, Tüfistrasse 16\, 8134\, Zürich\, 8134\, Schweiz
END:VEVENT
BEGIN:VEVENT
DTSTART;VALUE=DATE:20240418
DTEND;VALUE=DATE:20240420
DTSTAMP:20260421T223840
CREATED:20240130T154215Z
LAST-MODIFIED:20240130T154215Z
UID:7980-1713398400-1713571199@www.shukokai-karate.ch
SUMMARY:Gürtel-Prüfungen
DESCRIPTION:friday night impact training								\n				\n					\n		\n					\n		\n				\n						\n					\n			\n						\n				\n									Wo: 								\n				\n					\n		\n				\n			\n						\n				\n									Dojo Adliswil 								\n				\n					\n		\n					\n		\n				\n						\n					\n			\n						\n				\n									Wer: 								\n				\n					\n		\n				\n			\n						\n				\n									alle Karatekas ab 14 Jahren sind herzlich willkommen 								\n				\n					\n		\n					\n		\n				\n						\n					\n			\n						\n				\n									Wann: 								\n				\n					\n		\n				\n			\n						\n				\n									19:00-20:30
URL:https://www.shukokai-karate.ch/event/guertel-pruefungen-2/
LOCATION:Dojo Adliswil\, Webereistrasse 55\, Adliswil\, Zürich\, 8134\, Schweiz
ATTACH;FMTTYPE=image/jpeg:https://www.shukokai-karate.ch/wp-content/uploads/2024/01/IMG_9050-scaled.jpg
END:VEVENT
BEGIN:VEVENT
DTSTART;VALUE=DATE:20240420
DTEND;VALUE=DATE:20240506
DTSTAMP:20260421T223840
CREATED:20231201T154902Z
LAST-MODIFIED:20240422T083035Z
UID:7606-1713571200-1714953599@www.shukokai-karate.ch
SUMMARY:Frühlingsferien
DESCRIPTION:friday night impact training								\n				\n					\n		\n					\n		\n				\n						\n					\n			\n						\n				\n									Wo: 								\n				\n					\n		\n				\n			\n						\n				\n									Dojo Adliswil 								\n				\n					\n		\n					\n		\n				\n						\n					\n			\n						\n				\n									Wer: 								\n				\n					\n		\n				\n			\n						\n				\n									alle Karatekas ab 14 Jahren sind herzlich willkommen 								\n				\n					\n		\n					\n		\n				\n						\n					\n			\n						\n				\n									Wann: 								\n				\n					\n		\n				\n			\n						\n				\n									19:00-20:30
URL:https://www.shukokai-karate.ch/event/fruehlingsferien/
LOCATION:Zürich
ATTACH;FMTTYPE=image/png:https://www.shukokai-karate.ch/wp-content/uploads/2023/12/FERIEN.png
END:VEVENT
END:VCALENDAR