BEGIN:VCALENDAR
VERSION:2.0
PRODID:-//Kimura Shukokai Karate Adliswil - ECPv6.15.20//NONSGML v1.0//EN
CALSCALE:GREGORIAN
METHOD:PUBLISH
X-ORIGINAL-URL:https://www.shukokai-karate.ch
X-WR-CALDESC:Veranstaltungen für Kimura Shukokai Karate Adliswil
REFRESH-INTERVAL;VALUE=DURATION:PT1H
X-Robots-Tag:noindex
X-PUBLISHED-TTL:PT1H
BEGIN:VTIMEZONE
TZID:UTC
BEGIN:STANDARD
TZOFFSETFROM:+0000
TZOFFSETTO:+0000
TZNAME:UTC
DTSTART:20220101T000000
END:STANDARD
END:VTIMEZONE
BEGIN:VEVENT
DTSTART;VALUE=DATE:20231119
DTEND;VALUE=DATE:20231120
DTSTAMP:20260422T044057
CREATED:20230407T074444Z
LAST-MODIFIED:20231204T134017Z
UID:2839-1700352000-1700438399@www.shukokai-karate.ch
SUMMARY:KSI Schweizermeisterschaft 2023
DESCRIPTION:friday night impact training								\n				\n					\n		\n					\n		\n				\n						\n					\n			\n						\n				\n									Wo: 								\n				\n					\n		\n				\n			\n						\n				\n									Dojo Adliswil 								\n				\n					\n		\n					\n		\n				\n						\n					\n			\n						\n				\n									Wer: 								\n				\n					\n		\n				\n			\n						\n				\n									alle Karatekas ab 14 Jahren sind herzlich willkommen 								\n				\n					\n		\n					\n		\n				\n						\n					\n			\n						\n				\n									Wann: 								\n				\n					\n		\n				\n			\n						\n				\n									19:00-20:30
URL:https://www.shukokai-karate.ch/event/ksi-schweizermeisterschaft-2023/
LOCATION:Jona
ATTACH;FMTTYPE=image/png:https://www.shukokai-karate.ch/wp-content/uploads/2023/04/Bildschirmfoto-2023-12-04-um-14.39.31.png
END:VEVENT
END:VCALENDAR