BEGIN:VCALENDAR
VERSION:2.0
PRODID:-//Kimura Shukokai Karate Adliswil - ECPv6.15.20//NONSGML v1.0//EN
CALSCALE:GREGORIAN
METHOD:PUBLISH
X-WR-CALNAME:Kimura Shukokai Karate Adliswil
X-ORIGINAL-URL:https://www.shukokai-karate.ch
X-WR-CALDESC:Veranstaltungen für Kimura Shukokai Karate Adliswil
REFRESH-INTERVAL;VALUE=DURATION:PT1H
X-Robots-Tag:noindex
X-PUBLISHED-TTL:PT1H
BEGIN:VTIMEZONE
TZID:UTC
BEGIN:STANDARD
TZOFFSETFROM:+0000
TZOFFSETTO:+0000
TZNAME:UTC
DTSTART:20220101T000000
END:STANDARD
END:VTIMEZONE
BEGIN:VEVENT
DTSTART;VALUE=DATE:20230311
DTEND;VALUE=DATE:20230313
DTSTAMP:20260422T164440
CREATED:20230317T053128Z
LAST-MODIFIED:20231204T102705Z
UID:2622-1678492800-1678665599@www.shukokai-karate.ch
SUMMARY:Schwarzgurtprüfung März 2023
DESCRIPTION:friday night impact training								\n				\n					\n		\n					\n		\n				\n						\n					\n			\n						\n				\n									Wo: 								\n				\n					\n		\n				\n			\n						\n				\n									Dojo Adliswil 								\n				\n					\n		\n					\n		\n				\n						\n					\n			\n						\n				\n									Wer: 								\n				\n					\n		\n				\n			\n						\n				\n									alle Karatekas ab 14 Jahren sind herzlich willkommen 								\n				\n					\n		\n					\n		\n				\n						\n					\n			\n						\n				\n									Wann: 								\n				\n					\n		\n				\n			\n						\n				\n									19:00-20:30
URL:https://www.shukokai-karate.ch/event/schwarzgurtdgraduierung-11-12-maerz-2023/
LOCATION:Zurich International School\, Moosstrasse 15\, Adliswil\, Zürich\, 8134\, Schweiz
END:VEVENT
BEGIN:VEVENT
DTSTART;VALUE=DATE:20230311
DTEND;VALUE=DATE:20230313
DTSTAMP:20260422T164441
CREATED:20221230T132713Z
LAST-MODIFIED:20230328T185213Z
UID:633-1678492800-1678665599@www.shukokai-karate.ch
SUMMARY:Frühlings-Gasshuku 2023
DESCRIPTION:friday night impact training								\n				\n					\n		\n					\n		\n				\n						\n					\n			\n						\n				\n									Wo: 								\n				\n					\n		\n				\n			\n						\n				\n									Dojo Adliswil 								\n				\n					\n		\n					\n		\n				\n						\n					\n			\n						\n				\n									Wer: 								\n				\n					\n		\n				\n			\n						\n				\n									alle Karatekas ab 14 Jahren sind herzlich willkommen 								\n				\n					\n		\n					\n		\n				\n						\n					\n			\n						\n				\n									Wann: 								\n				\n					\n		\n				\n			\n						\n				\n									19:00-20:30
URL:https://www.shukokai-karate.ch/event/fruehlings-gasshuku-2023/
LOCATION:Zurich International School\, Moosstrasse 15\, Adliswil\, Zürich\, 8134\, Schweiz
ATTACH;FMTTYPE=image/jpeg:https://www.shukokai-karate.ch/wp-content/uploads/2022/12/298615618_805725130780859_603531184538512610_n-e1672417918497.jpeg
END:VEVENT
END:VCALENDAR