BEGIN:VCALENDAR
VERSION:2.0
PRODID:-//Kimura Shukokai Karate Adliswil - ECPv6.15.20//NONSGML v1.0//EN
CALSCALE:GREGORIAN
METHOD:PUBLISH
X-ORIGINAL-URL:https://www.shukokai-karate.ch
X-WR-CALDESC:Veranstaltungen für Kimura Shukokai Karate Adliswil
REFRESH-INTERVAL;VALUE=DURATION:PT1H
X-Robots-Tag:noindex
X-PUBLISHED-TTL:PT1H
BEGIN:VTIMEZONE
TZID:UTC
BEGIN:STANDARD
TZOFFSETFROM:+0000
TZOFFSETTO:+0000
TZNAME:UTC
DTSTART:20250101T000000
END:STANDARD
END:VTIMEZONE
BEGIN:VEVENT
DTSTART;VALUE=DATE:20260919
DTEND;VALUE=DATE:20260921
DTSTAMP:20260420T173103
CREATED:20250918T133858Z
LAST-MODIFIED:20250918T133858Z
UID:10479-1789776000-1789948799@www.shukokai-karate.ch
SUMMARY:Herbst-Gasshuku 2026
DESCRIPTION:friday night impact training								\n				\n					\n		\n					\n		\n				\n						\n					\n			\n						\n				\n									Wo: 								\n				\n					\n		\n				\n			\n						\n				\n									Dojo Adliswil 								\n				\n					\n		\n					\n		\n				\n						\n					\n			\n						\n				\n									Wer: 								\n				\n					\n		\n				\n			\n						\n				\n									alle Karatekas ab 14 Jahren sind herzlich willkommen 								\n				\n					\n		\n					\n		\n				\n						\n					\n			\n						\n				\n									Wann: 								\n				\n					\n		\n				\n			\n						\n				\n									19:00-20:30
URL:https://www.shukokai-karate.ch/event/herbst-gasshuku-2026/
LOCATION:Schulhaus Sonnenberg\, Säntisstrasse 12\, Adliswil\, 8134\, Switzerland
CATEGORIES:Gasshuku
ATTACH;FMTTYPE=image/jpeg:https://www.shukokai-karate.ch/wp-content/uploads/2024/01/168eb1e7-4b43-470f-a665-7273040fd483-scaled.jpg
END:VEVENT
END:VCALENDAR