BEGIN:VCALENDAR
VERSION:2.0
PRODID:-//Kimura Shukokai Karate Adliswil - ECPv6.15.20//NONSGML v1.0//EN
CALSCALE:GREGORIAN
METHOD:PUBLISH
X-ORIGINAL-URL:https://www.shukokai-karate.ch
X-WR-CALDESC:Veranstaltungen für Kimura Shukokai Karate Adliswil
REFRESH-INTERVAL;VALUE=DURATION:PT1H
X-Robots-Tag:noindex
X-PUBLISHED-TTL:PT1H
BEGIN:VTIMEZONE
TZID:UTC
BEGIN:STANDARD
TZOFFSETFROM:+0000
TZOFFSETTO:+0000
TZNAME:UTC
DTSTART:20230101T000000
END:STANDARD
END:VTIMEZONE
BEGIN:VEVENT
DTSTART;VALUE=DATE:20240324
DTEND;VALUE=DATE:20240325
DTSTAMP:20260422T001550
CREATED:20240125T111922Z
LAST-MODIFIED:20240125T122321Z
UID:7928-1711238400-1711324799@www.shukokai-karate.ch
SUMMARY:Kaderturnier Frühling
DESCRIPTION:friday night impact training								\n				\n					\n		\n					\n		\n				\n						\n					\n			\n						\n				\n									Wo: 								\n				\n					\n		\n				\n			\n						\n				\n									Dojo Adliswil 								\n				\n					\n		\n					\n		\n				\n						\n					\n			\n						\n				\n									Wer: 								\n				\n					\n		\n				\n			\n						\n				\n									alle Karatekas ab 14 Jahren sind herzlich willkommen 								\n				\n					\n		\n					\n		\n				\n						\n					\n			\n						\n				\n									Wann: 								\n				\n					\n		\n				\n			\n						\n				\n									19:00-20:30
URL:https://www.shukokai-karate.ch/event/kaderturnier-fruehling/
LOCATION:Luzern\, Schweiz
END:VEVENT
END:VCALENDAR